BEGIN:VCALENDAR
VERSION:2.0
PRODID:-//Fédération Aikibudo Québec - ECPv6.15.20//NONSGML v1.0//EN
CALSCALE:GREGORIAN
METHOD:PUBLISH
X-WR-CALNAME:Fédération Aikibudo Québec
X-ORIGINAL-URL:https://www.aikibudoquebec.org
X-WR-CALDESC:Évènements pour Fédération Aikibudo Québec
REFRESH-INTERVAL;VALUE=DURATION:PT1H
X-Robots-Tag:noindex
X-PUBLISHED-TTL:PT1H
BEGIN:VTIMEZONE
TZID:America/Los_Angeles
BEGIN:DAYLIGHT
TZOFFSETFROM:-0800
TZOFFSETTO:-0700
TZNAME:PDT
DTSTART:20230312T100000
END:DAYLIGHT
BEGIN:STANDARD
TZOFFSETFROM:-0700
TZOFFSETTO:-0800
TZNAME:PST
DTSTART:20231105T090000
END:STANDARD
BEGIN:DAYLIGHT
TZOFFSETFROM:-0800
TZOFFSETTO:-0700
TZNAME:PDT
DTSTART:20240310T100000
END:DAYLIGHT
BEGIN:STANDARD
TZOFFSETFROM:-0700
TZOFFSETTO:-0800
TZNAME:PST
DTSTART:20241103T090000
END:STANDARD
BEGIN:DAYLIGHT
TZOFFSETFROM:-0800
TZOFFSETTO:-0700
TZNAME:PDT
DTSTART:20250309T100000
END:DAYLIGHT
BEGIN:STANDARD
TZOFFSETFROM:-0700
TZOFFSETTO:-0800
TZNAME:PST
DTSTART:20251102T090000
END:STANDARD
END:VTIMEZONE
BEGIN:VEVENT
DTSTART;VALUE=DATE:20241117
DTEND;VALUE=DATE:20241118
DTSTAMP:20260420T144006
CREATED:20240821T140716Z
LAST-MODIFIED:20241113T154322Z
UID:3068-1731801600-1731887999@www.aikibudoquebec.org
SUMMARY:Stage aikibudo et kobudo + AGA
DESCRIPTION:Pour accéder au dojo il faut entrer par la porte #8.\n\n\nBloc 1 : Aïkibudo – 9h30 à 12h00 \nAssemblée générale de 12h 15 à 13h 15 (Diner fourni)\nBloc 2: Kobudo – 13h30 à 16h00  \n\n  \nCoût : 20$/bloc ou 30 $ pour la journée (2 blocs)   
URL:https://www.aikibudoquebec.org/event/stage-aikibudo-et-kobudo-aga/
LOCATION:CÉGEP de Trois-Rivières / Gymnase Pavillon des humanités\, 825 Margueritte-Bourgeoys\, Trois-Rivières\, Québec\, G8Z 3S8\, Canada
CATEGORIES:AGA,Assemblée générale annuelle,Stage Aikibudo,Stage Kobudo
ATTACH;FMTTYPE=image/jpeg:https://www.aikibudoquebec.org/wp-content/uploads/2024/08/19479a5e-f072-4959-a1ec-25ba82406c95.jpg
ORGANIZER;CN="F%C3%A9d%C3%A9ration Aikibudo Qu%C3%A9bec":MAILTO:admin@aikibudoquebec.org
END:VEVENT
END:VCALENDAR