BEGIN:VCALENDAR
VERSION:2.0
PRODID:-//Fédération Aikibudo Québec - ECPv6.15.20//NONSGML v1.0//EN
CALSCALE:GREGORIAN
METHOD:PUBLISH
X-WR-CALNAME:Fédération Aikibudo Québec
X-ORIGINAL-URL:https://www.aikibudoquebec.org
X-WR-CALDESC:Évènements pour Fédération Aikibudo Québec
REFRESH-INTERVAL;VALUE=DURATION:PT1H
X-Robots-Tag:noindex
X-PUBLISHED-TTL:PT1H
BEGIN:VTIMEZONE
TZID:America/Halifax
BEGIN:DAYLIGHT
TZOFFSETFROM:-0400
TZOFFSETTO:-0300
TZNAME:ADT
DTSTART:20180311T060000
END:DAYLIGHT
BEGIN:STANDARD
TZOFFSETFROM:-0300
TZOFFSETTO:-0400
TZNAME:AST
DTSTART:20181104T050000
END:STANDARD
BEGIN:DAYLIGHT
TZOFFSETFROM:-0400
TZOFFSETTO:-0300
TZNAME:ADT
DTSTART:20190310T060000
END:DAYLIGHT
BEGIN:STANDARD
TZOFFSETFROM:-0300
TZOFFSETTO:-0400
TZNAME:AST
DTSTART:20191103T050000
END:STANDARD
BEGIN:DAYLIGHT
TZOFFSETFROM:-0400
TZOFFSETTO:-0300
TZNAME:ADT
DTSTART:20200308T060000
END:DAYLIGHT
BEGIN:STANDARD
TZOFFSETFROM:-0300
TZOFFSETTO:-0400
TZNAME:AST
DTSTART:20201101T050000
END:STANDARD
END:VTIMEZONE
BEGIN:VEVENT
DTSTART;TZID=America/Halifax:20191018T190000
DTEND;TZID=America/Halifax:20191020T160000
DTSTAMP:20260425T101516
CREATED:20190509T085132Z
LAST-MODIFIED:20190925T205154Z
UID:2161-1571425200-1571587200@www.aikibudoquebec.org
SUMMARY:Aikibudofest 2019
DESCRIPTION:Stage conjoint AIKIBUDO\nAnimé par Maître Alain Floquet\, fondateur \net Maître Daniel Dubreuil\, 7e dan\, kyoshi \nCet événement\, ouvert à tous les pratiquants d’Aikibudo du Québec\, sera à nouveau l’occasion de pratiquer ensemble notre art martial préféré. Au programme\, 5 blocs totalisant plus de 10 heures d’entraînement auprès des maîtres invités. Soirée BBQ/musique samedi soir au dojo\, et accès aux installations sur place pour se détendre entre les cours. Une superbe fin de semaine en perspective où le plaisir de se rencontrer s’associera à la joie d’une pratique harmonieuse. \nFaites vite! Réservez votre place en suivant le lien ci-dessous!  \n 
URL:https://www.aikibudoquebec.org/event/aikibudofest-2019/
LOCATION:Centre National Yoseikan Budo\, 7310 Boulevard Jean-XXIII\, Trois-Rivières\, Québec\, G9A 5C9\, Canada
CATEGORIES:Aikibudofest,Stage Aikibudo
ATTACH;FMTTYPE=image/jpeg:https://www.aikibudoquebec.org/wp-content/uploads/2019/05/Aikibudofest-2019-réduit.jpg
ORGANIZER;CN="F%C3%A9d%C3%A9ration Aikibudo Qu%C3%A9bec":MAILTO:admin@aikibudoquebec.org
END:VEVENT
END:VCALENDAR